BEGIN:VCALENDAR
VERSION:2.0
PRODID:-// - ECPv6.15.20//NONSGML v1.0//EN
CALSCALE:GREGORIAN
METHOD:PUBLISH
X-ORIGINAL-URL:https://aneinu.com
X-WR-CALDESC:Events for 
REFRESH-INTERVAL;VALUE=DURATION:PT1H
X-Robots-Tag:noindex
X-PUBLISHED-TTL:PT1H
BEGIN:VTIMEZONE
TZID:UTC
BEGIN:STANDARD
TZOFFSETFROM:+0000
TZOFFSETTO:+0000
TZNAME:UTC
DTSTART:20250101T000000
END:STANDARD
END:VTIMEZONE
BEGIN:VEVENT
DTSTART;TZID=UTC:20260512T211500
DTEND;TZID=UTC:20260512T220000
DTSTAMP:20260423T100016
CREATED:20260416T014044Z
LAST-MODIFIED:20260416T014044Z
UID:4454-1778620500-1778623200@aneinu.com
SUMMARY:SHIUR 85-Dr Yael Respler
DESCRIPTION:
URL:https://aneinu.com/event/shiur-85-dr-yael-respler
CATEGORIES:DR. YAEL RESPLER
END:VEVENT
END:VCALENDAR